BEGIN:VCALENDAR
VERSION:2.0
PRODID:-//smart-Club Österreich - ECPv6.7.0//NONSGML v1.0//EN
CALSCALE:GREGORIAN
METHOD:PUBLISH
X-WR-CALNAME:smart-Club Österreich
X-ORIGINAL-URL:https://www.smartclub.at
X-WR-CALDESC:Veranstaltungen für smart-Club Österreich
REFRESH-INTERVAL;VALUE=DURATION:PT1H
X-Robots-Tag:noindex
X-PUBLISHED-TTL:PT1H
BEGIN:VTIMEZONE
TZID:Europe/Vienna
BEGIN:DAYLIGHT
TZOFFSETFROM:+0100
TZOFFSETTO:+0200
TZNAME:CEST
DTSTART:20230326T010000
END:DAYLIGHT
BEGIN:STANDARD
TZOFFSETFROM:+0200
TZOFFSETTO:+0100
TZNAME:CET
DTSTART:20231029T010000
END:STANDARD
END:VTIMEZONE
BEGIN:VEVENT
DTSTART;TZID=Europe/Vienna:20230304T150000
DTEND;TZID=Europe/Vienna:20230304T180000
DTSTAMP:20260421T181147
CREATED:20230226T093924Z
LAST-MODIFIED:20230415T195050Z
UID:5224-1677942000-1677952800@www.smartclub.at
SUMMARY:Wien Stammtisch
DESCRIPTION:Liebe Smartfahrer aus Wien und Umgebung. Anbei wieder ein Termin zu einem gemütlichen smarten Treffen. Wir freuen uns auf ein smartreiches Erscheinen
URL:https://www.smartclub.at/termin/wien-stammtisch-17/
LOCATION:Der Schottenheurige\, Lichtensteinstraße 68\, Maria Enzersdorf\, 2344
CATEGORIES:Stammtisch
ATTACH;FMTTYPE=image/jpeg:https://www.smartclub.at/wp-content/uploads/2018/10/IMG_0574.jpg
END:VEVENT
BEGIN:VEVENT
DTSTART;TZID=Europe/Vienna:20230311T150000
DTEND;TZID=Europe/Vienna:20230311T180000
DTSTAMP:20260421T181147
CREATED:20230307T145331Z
LAST-MODIFIED:20230307T145331Z
UID:5232-1678546800-1678557600@www.smartclub.at
SUMMARY:Stmk Stammtisch
DESCRIPTION:Liebe Smartfahrer aus Graz und Umgebung. Anbei wieder ein Termin zu einem gemütlichen smarten Treffen. Wir freuen uns auf ein smartreiches Erscheinen
URL:https://www.smartclub.at/termin/stmk-stammtisch-13/
LOCATION:Klammwirtin im Schweizerhof\, Laufnitzdorf 21\, Frohnleiten\, 8130
CATEGORIES:Stammtisch
ATTACH;FMTTYPE=image/jpeg:https://www.smartclub.at/wp-content/uploads/2019/02/2015-07-st-stmk-Koerbler.jpg
END:VEVENT
BEGIN:VEVENT
DTSTART;TZID=Europe/Vienna:20230317T180000
DTEND;TZID=Europe/Vienna:20230319T200000
DTSTAMP:20260421T181147
CREATED:20230211T205050Z
LAST-MODIFIED:20230212T081633Z
UID:5114-1679076000-1679256000@www.smartclub.at
SUMMARY:Jahreshauptversammlung 2023
DESCRIPTION:Liebe Mitglieder des Smart-Club Österreich! \nAnbei ist die Tagesordnung für die Generalversammlung am Samstag den 18.03.2023 um 18.00 Uhr und wir bitten zusätzliche Anträge schriftlich an den Club bis spätestens 14.03.2023 zu senden. \nEine schnellstmögliche Anmeldung ist aufgrund der begrenzt vorreservierten Plätze im Gasthof Hotel Stockinger bzw. wegen der Raumreservierung für die Jahreshauptversammlung sowie den geplanten Veranstaltungen unbedingt erforderlich! \nTermin:     18. bis 22. Mai 2023 \nOrt:           Hotel Kirchenwirt\, Ritzlhofstrasse 63 – 65\, A-4052 Ansfelden \nEs gibt die Möglichkeit im Hotel Kirchenwirt zu übernachten. Die Preise sind ab DZ 46 p.P. und Nacht inkl. Frühstück mit Kärtnercard bzw. 56 EUR ohne. \nDie Zimmer beim Hotel Kirchenwirt\, Hotel Post daneben oder alternativen Unterkünften bitte selbst reservieren. \nAlternative Unterkünfte in der Umgebung: \nhttp://www.tanz-strauss.at/zimmer/ \nhttps://www.pensionbrandl.at/zimmer \nhttps://www.sleeep-hotel.at/preise/ \nFür die Vorhut: \nDonnerstag   18.05.2023: \nAb ca. 16:00:           Gemütliches Zusammensitzen beim Gasthof Hotel Stockinger \nCa. 21:15:                Nachtwächtertour in Linz\nAchtung: bei Interesse bitten wir um Voranmeldung bei uns wegen Reservierung! \nTagesprogramm und Hauptveranstaltung: \nFreitag   19.05.2023: \nVormittags:             Eintreffen der Smarties\, Zeit für Geselligkeit und zum Plaudern \nCa. 10:30:                Gemeinsame Abfahrt im Konvoi zur Stahlwelt Voest \n11:00 – ca. 14:00:    Besichtigung der Stahlwelt Voest und anschließende Werkstour \n                               Danach zügige Abfahrt zum Kastner Café – Fahrtzeit ca. 35-40 Minuten \nCa. 15:30 –  16:30:   Besichtigung Kastner Lebzeltarium \n18:00:                     Beginn der Generalversammlung im Gasthof Hotel Stockinger \n                               Danach gemeinsames Abendessen und Prämierung des schönsten Lebkuchenherzes \n  \n 
URL:https://www.smartclub.at/termin/jahreshauptversammlung-2023/
LOCATION:Gasthof Hotel Stockinger\, Ritzlhofstraße 63\, Ansfelden\, 4052
CATEGORIES:Clubtreffen
ATTACH;FMTTYPE=image/jpeg:https://www.smartclub.at/wp-content/uploads/2018/06/IMG_2671.jpg
END:VEVENT
END:VCALENDAR