BEGIN:VCALENDAR
VERSION:2.0
PRODID:-//smart-Club Österreich - ECPv6.7.0//NONSGML v1.0//EN
CALSCALE:GREGORIAN
METHOD:PUBLISH
X-ORIGINAL-URL:https://www.smartclub.at
X-WR-CALDESC:Veranstaltungen für smart-Club Österreich
REFRESH-INTERVAL;VALUE=DURATION:PT1H
X-Robots-Tag:noindex
X-PUBLISHED-TTL:PT1H
BEGIN:VTIMEZONE
TZID:Europe/Vienna
BEGIN:DAYLIGHT
TZOFFSETFROM:+0100
TZOFFSETTO:+0200
TZNAME:CEST
DTSTART:20230326T010000
END:DAYLIGHT
BEGIN:STANDARD
TZOFFSETFROM:+0200
TZOFFSETTO:+0100
TZNAME:CET
DTSTART:20231029T010000
END:STANDARD
END:VTIMEZONE
BEGIN:VEVENT
DTSTART;TZID=Europe/Vienna:20230211T150000
DTEND;TZID=Europe/Vienna:20230211T180000
DTSTAMP:20260421T193921
CREATED:20230211T204157Z
LAST-MODIFIED:20230211T204157Z
UID:5110-1676127600-1676138400@www.smartclub.at
SUMMARY:Wien Stammtisch
DESCRIPTION:04Liebe Smartfahrer aus Wien und Umgebung. Anbei wieder ein Termin zu einem gemütlichen smarten Treffen. Wir freuen uns auf ein smartreiches Erscheinen
URL:https://www.smartclub.at/termin/wien-stammtisch-23/
LOCATION:Zündwerk\, Hauptstraße 1a\, Strasshof\, 2231
CATEGORIES:Stammtisch
ATTACH;FMTTYPE=image/jpeg:https://www.smartclub.at/wp-content/uploads/2018/10/IMG_0574.jpg
END:VEVENT
END:VCALENDAR