BEGIN:VCALENDAR
VERSION:2.0
PRODID:-//smart-Club Österreich - ECPv6.7.0//NONSGML v1.0//EN
CALSCALE:GREGORIAN
METHOD:PUBLISH
X-WR-CALNAME:smart-Club Österreich
X-ORIGINAL-URL:https://www.smartclub.at
X-WR-CALDESC:Veranstaltungen für smart-Club Österreich
REFRESH-INTERVAL;VALUE=DURATION:PT1H
X-Robots-Tag:noindex
X-PUBLISHED-TTL:PT1H
BEGIN:VTIMEZONE
TZID:Europe/Vienna
BEGIN:DAYLIGHT
TZOFFSETFROM:+0100
TZOFFSETTO:+0200
TZNAME:CEST
DTSTART:20220327T010000
END:DAYLIGHT
BEGIN:STANDARD
TZOFFSETFROM:+0200
TZOFFSETTO:+0100
TZNAME:CET
DTSTART:20221030T010000
END:STANDARD
END:VTIMEZONE
BEGIN:VEVENT
DTSTART;TZID=Europe/Vienna:20220121T180000
DTEND;TZID=Europe/Vienna:20220121T200000
DTSTAMP:20260422T134439
CREATED:20220129T212021Z
LAST-MODIFIED:20220129T212323Z
UID:4743-1642788000-1642795200@www.smartclub.at
SUMMARY:Jahreshauptversammlung 2022
DESCRIPTION:Liebe Mitglieder des Smart-Club Österreich! \nDie Generalversammlung findet am 21.Jänner 2022 per Zoom statt. \n  \n 
URL:https://www.smartclub.at/termin/jahreshauptversammlung-2022/
LOCATION:Zoom
CATEGORIES:Clubtreffen
ATTACH;FMTTYPE=image/jpeg:https://www.smartclub.at/wp-content/uploads/2019/04/2019-JHV_110.jpg
END:VEVENT
END:VCALENDAR