BEGIN:VCALENDAR
VERSION:2.0
PRODID:-//smart-Club Österreich - ECPv6.7.0//NONSGML v1.0//EN
CALSCALE:GREGORIAN
METHOD:PUBLISH
X-ORIGINAL-URL:https://www.smartclub.at
X-WR-CALDESC:Veranstaltungen für smart-Club Österreich
REFRESH-INTERVAL;VALUE=DURATION:PT1H
X-Robots-Tag:noindex
X-PUBLISHED-TTL:PT1H
BEGIN:VTIMEZONE
TZID:Europe/Vienna
BEGIN:DAYLIGHT
TZOFFSETFROM:+0100
TZOFFSETTO:+0200
TZNAME:CEST
DTSTART:20190331T010000
END:DAYLIGHT
BEGIN:STANDARD
TZOFFSETFROM:+0200
TZOFFSETTO:+0100
TZNAME:CET
DTSTART:20191027T010000
END:STANDARD
END:VTIMEZONE
BEGIN:VEVENT
DTSTART;VALUE=DATE:20190912
DTEND;VALUE=DATE:20190916
DTSTAMP:20260424T002430
CREATED:20181111T100614Z
LAST-MODIFIED:20181203T193137Z
UID:4044-1568246400-1568591999@www.smartclub.at
SUMMARY:Smartes Herbst Treffen in der schönen Wachau
DESCRIPTION:Liebe Smarties!\nFamilie Kammerhofer lädt uns im Herbst 2019 in Ihre Heimat in die schöne Wachau ein! Der Preis für das Veranstaltungs-Package beträgt 155EUR\, dieser dient auch als Anzahlung! Bitte verwendet dieses Formular um euch für das Treffen anzumelden (Anmeldeschluss 31.7.2019). Ihr könnt das PDF direkt am Computer ausfüllen und dann per E-Mail an Martina senden! \nDer goldene Herbst in der Wachau\nZu keiner anderen Jahreszeit ist es in der Wachau mit ihren Weinterrassen bunter\, faszinierender und köstlicher als im Herbst.\nMitten in der Zeit der Weinlese duftet es nach den frisch gepressten Trauben. Die schmecken kurze Zeit später als herrlich süßer\, oder auch herber Sturm (Federweißer).\nViele Winzer öffnen trotz der Weinlese ihre Tore zum Sturmheurigen\, da wird dann die typische Sturmjause – ein viertel Sturm und Erdäpfel mit Butter – serviert. Ein muss für jeden Besucher der Region.\nLangeweile kommt in der Wachau die geprägt ist vom Weinbau so gut wie nie auf. In punkto Kulinarik verwöhnt die Region unseren Gaumen. \nDoch auch Geschichtlich haben wir einiges zu bieten. Die Legende von Richard Löwenherz ist in der Wachau allgegenwärtig. Die beeindruckende Flusslandschaft lädt ein zum Wandern\, zum Besuch der Ruinen\, Burgen und der Klöster und so kam die Region zu dem Titel: „Best Historic Destination in the World“. \nAlso werden wir bei unserem smart–Treffen einiges von all diesen Legenden\, Köstlichkeiten und kulturellen Schätzen entdecken. \n  \nDas Programm im Detail\nDonnerstag 12.9.2019\nGemütliches Ankommen ab 16:00\, einchecken in die Unterkünfte. \nUm 19:00 Weinverkostung und Winzerbuffet (warm und kalt) im Weingut Josef Dockner mit anschließender Kellerführung. \nTreffpunkt Gasthaus Grubmüller zwischen 18:00 und 18:30. Es besteht die Möglichkeit zu Fuß zum Weingut zu gehen\, dafür benötigt man ca. 35 – 40 Minuten. Es ist ein wunderschöner gemütlicher Spaziergang entlang des Bildstockweges. Natürlich dürft ihr auch mit dem Auto fahren\, bedenke allerdings\, wer mehr verkosten möchte sollte vielleicht doch zu Fuß gehen! \nFreitag 13.9.2019\nRundfahrt durch die Wachau – uns steht ein ereignisreicher Tag bevor. \nAbfahrt vom Parkplatz Grubmüller um 10:00 \nDer Weg führt uns nur ein paar Kilometer den Berg hinauf zum Stift Göttweig. Von hier haben wir einen schönen Blick über das Kremstal und in die Wachau. Wir werden uns den Innenhof des Stiftes ansehen und die Kirche\, so bekommen wir einen überblick über das klösterliche Anwesen. Wir werden uns ca. 30 – 40 Minuten aufhalten. \nAbfahrt vom Stift: 10:45 \nUnser Weg führt an die Donau und wir fahren am rechten Donauufer zur Burgruine Aggstein. Dort besichtigen wir um 12:00 mit einer humorvollen Führung die imposante Burg der Raubritter und auch unser Mittagessen um 13:00 (Frittatensuppe & Ripperl) findet in dem alten Gemäuer der Burgtaverne statt. \nAbfahrt von der Burg: 14:00 \nJetzt geht es weiter mit der Rollfähre in Arnsdorf\, wir übersetzen nach Spitz an der Donau und fahren gemütlich Richtung Dürnstein. Wir parken dann direkt bei der Domäne Wachau. Von dort aus geht’s zu einer kleinen Wanderung über den Welterbesteig in die alte Raubritterstadt Dürnstein. Wer nicht so weit gehen kann oder möchte kann direkt in die Stadt gehen. Um 16:00 beginnt die Kellerführung in der Domäne Wachau mit Weinverkostung und Wachauerlaberl. \nAbfahrt von der Domäne um ca. 17:45 \nWir fahren auf direkten Weg zum Kellergassenfest in Kuffern. Der Besuch eines traditionellen Kellergassenfestes ist immer ein unvergessliches Erlebnis. Dort gibt es viele selbst gemachte Köstlichkeiten und Weine von den heimischen Winzern. Am Kellergassenfest geht man am Besten gemütlich von Keller zu Keller und gustiert\, verkostet und geniest. \nVon Kuffern nach Paudorf sind es nur 6 Minuten mit dem Auto. Wenn wir möchten\, können wir auch ein Sammeltaxi organisieren. Wird bestimmt nicht die Welt kosten. \nSamstag 14.9.2019\nDie Magie des Waldviertels wird uns heute verzaubern. \nAbfahrt um 9:30 vom Gasthaus Grubmüller \nHeute fahren wir über einen schönen Aussichtspunkt\, den Seiberer in das Waldviertel. Die Strecke ist genial für uns Smarties. Unser Weg führt uns zum Biokräuterhersteller Sonnentor. Wir haben um 11:00 eine Führung und anschließend Zeit für Einkäufe im Shop. \nAbfahrt um 12:30 \nAnkunft beim Mohnwirt in Armschlag ca. 12:45\, dort erwartet uns ein Uriges Bratl mit warmen Krautsalat und Waldviertler Knödel\, als Nachspeise gibt es dann die für die Region typischen Mohnnudeln (ein Getränk ist inklusive). \nAbfahrt um 14:00 \nDurch das mystische Waldviertel führt unser Weg jetzt zum Bärenwald in Arbesbach. Das ist ein Projekt von 4 Pfoten. Wir haben da um 15:00 eine Führung und dürfen die geretteten Bären hautnah erleben. Danach fahren wir eine wunderschöne Strecke durch das Waldviertel und die Wachau direkt zum Heutigen Dürrauer. Dort erwartet uns eine traditionelle Bretteljause.\nDen Abend lassen wir beim Heurigen ausklingen. \nSonntag 15.9.2019\nHeute ist unser schönes Treffen wieder zu Ende:\nAusschlafen – Verabschieden – Heimreise \n  \nDas Veranstaltungs-Package\nMartina hat uns ein tolles Package für das Treffen ausverhandelt\, welches folgende Leistungen beinhaltet: \n\nSektempfang & Brötchen\nWinzerbuffet warm & kalt\nWeinverkostung\, incl. aller Getränke & Kellerführung\nEintritt & Führung Ruine\nRipperlessen\nRollfähre\nKellerführung & Verkostung Domäne Wachau mit Wachauerlaberl\nSonnentor Führung\nMenü beim Mohnwirt\, inkl. ein Getränk\nFührung im Bärenwald\nHeurigenjause\n\nBitte beachtet\, dass das Package erst ab 25 Teilnehmern möglich ist! \n  \nWir freuen uns auf Eure Teilnahme! \nEuer smart-Club Österreich
URL:https://www.smartclub.at/termin/herbst-2019-wachau/
LOCATION:Gasthof Grubmüller\, Paudorf\, Kremserstr. 46\, Paudorf\, 3508\, Österreich
CATEGORIES:Clubtreffen
ATTACH;FMTTYPE=image/jpeg:https://www.smartclub.at/wp-content/uploads/2018/11/wachau_duernstein.jpg
END:VEVENT
END:VCALENDAR