BEGIN:VCALENDAR
VERSION:2.0
PRODID:-//smart-Club Österreich - ECPv6.7.0//NONSGML v1.0//EN
CALSCALE:GREGORIAN
METHOD:PUBLISH
X-WR-CALNAME:smart-Club Österreich
X-ORIGINAL-URL:https://www.smartclub.at
X-WR-CALDESC:Veranstaltungen für smart-Club Österreich
REFRESH-INTERVAL;VALUE=DURATION:PT1H
X-Robots-Tag:noindex
X-PUBLISHED-TTL:PT1H
BEGIN:VTIMEZONE
TZID:Europe/Vienna
BEGIN:DAYLIGHT
TZOFFSETFROM:+0100
TZOFFSETTO:+0200
TZNAME:CEST
DTSTART:20180325T010000
END:DAYLIGHT
BEGIN:STANDARD
TZOFFSETFROM:+0200
TZOFFSETTO:+0100
TZNAME:CET
DTSTART:20181028T010000
END:STANDARD
END:VTIMEZONE
BEGIN:VEVENT
DTSTART;VALUE=DATE:20180831
DTEND;VALUE=DATE:20180903
DTSTAMP:20260424T153100
CREATED:20180724T183406Z
LAST-MODIFIED:20180724T183406Z
UID:3595-1535673600-1535932799@www.smartclub.at
SUMMARY:Chiemsee 2018
DESCRIPTION:..und wieder ruft das Meer! \nUnser bayrisches smart-Urgestein Werner organisiert wieder eines seiner legendären Chiemsee Treffen! \nDetails findest du auf der homepage: https://www.smartfriends.de/
URL:https://www.smartclub.at/termin/chiemsee-2018/
LOCATION:Übersee\, Übersee\, bayern\, Deutschland
ATTACH;FMTTYPE=image/jpeg:https://www.smartclub.at/wp-content/uploads/2018/07/Chiemsee2018.jpg
END:VEVENT
BEGIN:VEVENT
DTSTART;VALUE=DATE:20180908
DTEND;VALUE=DATE:20180916
DTSTAMP:20260424T153100
CREATED:20180724T191159Z
LAST-MODIFIED:20180731T205521Z
UID:3600-1536364800-1537055999@www.smartclub.at
SUMMARY:smart-Club goes to Krk!
DESCRIPTION:Nach vielen Jahren entführt uns unser Hermann wiedermal nach Kroatien\, diesmal auf die schöne Insel Krk! \nUnsere Gruppe ist am Campingplatz Njivice einquartiert\, von wo aus wir spontan auf „Erkundungsfahrt“ gehen werden. \nAnsonsten erwarten uns Sommer\, Sonne\, Meer und Spaß! \nFür Kurzentschlossene: bitte beachtet\, dass unsere Mobilheime bereits 2017 gebucht wurden\, wer uns kurzfristig begleiten möchte müsste sich daher bitte selbst um ein passendes Quartier kümmern!
URL:https://www.smartclub.at/termin/smart-club-goes-to-krk/
LOCATION:Camp Njivice\, Primorska cesta 41\, Njivice\, 51512\, Kroatien
CATEGORIES:Urlaub
ATTACH;FMTTYPE=image/jpeg:https://www.smartclub.at/wp-content/uploads/2018/07/sc-goes-krk.jpg
END:VEVENT
BEGIN:VEVENT
DTSTART;TZID=Europe/Vienna:20180922T150000
DTEND;TZID=Europe/Vienna:20180922T180000
DTSTAMP:20260424T153100
CREATED:20180910T191748Z
LAST-MODIFIED:20180910T195449Z
UID:3931-1537628400-1537639200@www.smartclub.at
SUMMARY:Wien-Stammtisch
DESCRIPTION:Der nächste Termin steht fest. Samstag 22.09. ab 15:00 Uhr: \nLokal:\nSchloßheuriger Vösendorf\nSchloßplatz 2\n2321 Vösendorf\nhttp://www.schlossheuriger.com \nTisch ist auf meinen Namen reserviert. \nSmarte Grüße \nJochen vom Smart-Club
URL:https://www.smartclub.at/termin/wien-stammtisch-3/
LOCATION:Schloßheuriger Vösendorf\, Schloßplatz 2\, Vösendorf\, 2321
CATEGORIES:Stammtisch
END:VEVENT
END:VCALENDAR