BEGIN:VCALENDAR
VERSION:2.0
PRODID:-//smart-Club Österreich - ECPv6.7.0//NONSGML v1.0//EN
CALSCALE:GREGORIAN
METHOD:PUBLISH
X-ORIGINAL-URL:https://www.smartclub.at
X-WR-CALDESC:Veranstaltungen für smart-Club Österreich
REFRESH-INTERVAL;VALUE=DURATION:PT1H
X-Robots-Tag:noindex
X-PUBLISHED-TTL:PT1H
BEGIN:VTIMEZONE
TZID:Europe/Vienna
BEGIN:DAYLIGHT
TZOFFSETFROM:+0100
TZOFFSETTO:+0200
TZNAME:CEST
DTSTART:20180325T010000
END:DAYLIGHT
BEGIN:STANDARD
TZOFFSETFROM:+0200
TZOFFSETTO:+0100
TZNAME:CET
DTSTART:20181028T010000
END:STANDARD
END:VTIMEZONE
BEGIN:VEVENT
DTSTART;TZID=Europe/Vienna:20180810T190000
DTEND;TZID=Europe/Vienna:20180810T220000
DTSTAMP:20260424T165934
CREATED:20180803T055821Z
LAST-MODIFIED:20180803T055821Z
UID:3653-1533927600-1533938400@www.smartclub.at
SUMMARY:STMK Stammtisch
DESCRIPTION:Liebe Smartis!\n\nAm 10. August 2018 treffen wir uns wieder zum Stammtisch!\n\nWo? Beim Grießner in Graz\, Krottendorferstraße 98\nWann? Am 10. August 2018 um 19:00 Uhr\n\nWir freuen uns auf Euer Kommen!\n\nSmarte Grüße\nAngelika und Hermann
URL:https://www.smartclub.at/termin/stmk-stammtisch/
LOCATION:Krottendorferstraße 89\, 8052 Graz
ATTACH;FMTTYPE=image/jpeg:https://www.smartclub.at/wp-content/uploads/2018/08/stammtischjuli.jpg
END:VEVENT
BEGIN:VEVENT
DTSTART;TZID=Europe/Vienna:20180816T183000
DTEND;TZID=Europe/Vienna:20180816T210000
DTSTAMP:20260424T165934
CREATED:20180725T075851Z
LAST-MODIFIED:20180731T205433Z
UID:3610-1534444200-1534453200@www.smartclub.at
SUMMARY:OÖ Stammtisch
DESCRIPTION:Unser August Stammtisch findet ausnahmsweise nicht in unserem „Stammbeisl“ statt\, sondern wir fahren zu Helga in Richtung Steyr\, wo uns eine feine Grillerei erwartet.\nZwecks Platzreservierung ersuchen wir um Voranmeldung über unsere Whatsapp Gruppe! \nWo: Gasthaus zur Alpe \nRedtenbachergasse 10\n4400 Steyr
URL:https://www.smartclub.at/termin/ooe-stammtisch-2/
CATEGORIES:Stammtisch
ATTACH;FMTTYPE=image/jpeg:https://www.smartclub.at/wp-content/uploads/2018/07/PICT2383-e1530861406284.jpg
END:VEVENT
BEGIN:VEVENT
DTSTART;TZID=Europe/Vienna:20180818T150000
DTEND;TZID=Europe/Vienna:20180818T180000
DTSTAMP:20260424T165934
CREATED:20180731T195023Z
LAST-MODIFIED:20180731T195114Z
UID:3645-1534604400-1534615200@www.smartclub.at
SUMMARY:Wien-Stammtisch
DESCRIPTION:Der nächste Termin steht fest. Samstag 18.08. ab 15:00 Uhr: \nLokal:\nConcordia Schlössl\nSimmeringer Hauptstraße 283\n1110 Wien\nhttps://www.concordia-schloessl.at/ \nTisch ist auf meinen Namen reserviert. \nSmarte Grüße \nJochen vom Smart-Club \n 
URL:https://www.smartclub.at/termin/wien-stammtisch-2/
LOCATION:concordia schlössl\, Simmeringer Hauptstraße 283\, Wien\, 1110\, Österreich
CATEGORIES:Stammtisch
END:VEVENT
BEGIN:VEVENT
DTSTART;VALUE=DATE:20180831
DTEND;VALUE=DATE:20180903
DTSTAMP:20260424T165934
CREATED:20180724T183406Z
LAST-MODIFIED:20180724T183406Z
UID:3595-1535673600-1535932799@www.smartclub.at
SUMMARY:Chiemsee 2018
DESCRIPTION:..und wieder ruft das Meer! \nUnser bayrisches smart-Urgestein Werner organisiert wieder eines seiner legendären Chiemsee Treffen! \nDetails findest du auf der homepage: https://www.smartfriends.de/
URL:https://www.smartclub.at/termin/chiemsee-2018/
LOCATION:Übersee\, Übersee\, bayern\, Deutschland
ATTACH;FMTTYPE=image/jpeg:https://www.smartclub.at/wp-content/uploads/2018/07/Chiemsee2018.jpg
END:VEVENT
END:VCALENDAR