BEGIN:VCALENDAR
VERSION:2.0
PRODID:-//smart-Club Österreich - ECPv6.7.0//NONSGML v1.0//EN
CALSCALE:GREGORIAN
METHOD:PUBLISH
X-WR-CALNAME:smart-Club Österreich
X-ORIGINAL-URL:https://www.smartclub.at
X-WR-CALDESC:Veranstaltungen für smart-Club Österreich
REFRESH-INTERVAL;VALUE=DURATION:PT1H
X-Robots-Tag:noindex
X-PUBLISHED-TTL:PT1H
BEGIN:VTIMEZONE
TZID:Europe/Vienna
BEGIN:DAYLIGHT
TZOFFSETFROM:+0100
TZOFFSETTO:+0200
TZNAME:CEST
DTSTART:20230326T010000
END:DAYLIGHT
BEGIN:STANDARD
TZOFFSETFROM:+0200
TZOFFSETTO:+0100
TZNAME:CET
DTSTART:20231029T010000
END:STANDARD
END:VTIMEZONE
BEGIN:VEVENT
DTSTART;TZID=Europe/Vienna:20230519T180000
DTEND;TZID=Europe/Vienna:20230521T200000
DTSTAMP:20260421T171433
CREATED:20230211T210645Z
LAST-MODIFIED:20230212T131620Z
UID:5119-1684519200-1684699200@www.smartclub.at
SUMMARY:Smarties goes Kärnten
DESCRIPTION:Liebe Mitglieder des Smart-Club Österreich! \nUnsere Frühjahrsausfahrt geht nach Kärnten. \nTermin:     18. bis 22. Mai 2023 \nOrt:           „Familienpension-Apartments  Kirchenwirt“\, 9873 Döbriach\, Kirchgasse 8 . Tel.:04246/7264 \nEs gibt die Möglichkeit im Hotel Kirchenwirt zu übernachten. Die Preise sind ab DZ 46 p.P. und Nacht inkl. Frühstück mit Kärtnercard bzw. 56 EUR ohne. \nAlternative Unterkünfte in der Umgebung: \n„Hotel Trattnig „ \,9873 Döbriach\, Seestraße 66 \n Tel.: 04246/7719 .  Hier kann man auch schon am Donnerstag anreisen. Preis ab € 73\,- incl. Frühstück\, excl. Kurtaxe. Auch Tiere willkommen mit +€ 15. \nFür die Vorhut: \nFreitag   19.05.2023: \nAb ca. 16:00:           Gemütliches Eintreffen in Himmelberg (Gute Speisen wie Spareribs\, Beef Brisket aus dem Smoker) \nDanach:                   Abfahrt zu den Unterkünften in Döbriach (ca. 37km)! \nTagesprogramm und Hauptveranstaltung: \nSamstag   20.05.2023: \nCa. 8:30:                  Gemeinsame Abfahrt im Konvoi via Nockalmstraße bis Innerkrems (ca 60km) \n11:00 – ca. 12:00:    Von Innerkrems über Gmünd (ca. 24 km) zur Malta Hochalmstraße (ca.14\,4 km) \nMittagessen:           „Kölnbreinhütte \nCa. 13:30:                Führungen in der Staumauer gibt´s von 9:00 – 16:00Uhr \nCa. 15:00:                Rückfahrt nach Gmünd (ca 30 km) \nCa. 16:00:                Besuch Porschemuseum \nCa. 17:30:                Rückfahrt nach Döbriach (ca. 30 km) \nAb ca 18:00:            Freie Zeit in Döbriach \nSonntag   21.05.2023: \nFrühstück (im jeweiligen Quartier) \n11:00:                     Gemeinsame Abfahrt Individuelle Heimreise \n  \nWir hoffen auf zahlreiche smarte Teilnahme. \nEuer Smartclub \n  \n 
URL:https://www.smartclub.at/termin/smarties-goes-kaernten/
LOCATION:Familienpension Apartments Kirchenwirt\, Kirchgasse 8\, Döbriach\, 9873
CATEGORIES:Clubtreffen
ATTACH;FMTTYPE=image/jpeg:https://www.smartclub.at/wp-content/uploads/2023/02/Kaernten.jpg
END:VEVENT
END:VCALENDAR