BEGIN:VCALENDAR
VERSION:2.0
PRODID:-//smart-Club Österreich - ECPv6.7.0//NONSGML v1.0//EN
CALSCALE:GREGORIAN
METHOD:PUBLISH
X-ORIGINAL-URL:https://www.smartclub.at
X-WR-CALDESC:Veranstaltungen für smart-Club Österreich
REFRESH-INTERVAL;VALUE=DURATION:PT1H
X-Robots-Tag:noindex
X-PUBLISHED-TTL:PT1H
BEGIN:VTIMEZONE
TZID:Europe/Vienna
BEGIN:DAYLIGHT
TZOFFSETFROM:+0100
TZOFFSETTO:+0200
TZNAME:CEST
DTSTART:20230326T010000
END:DAYLIGHT
BEGIN:STANDARD
TZOFFSETFROM:+0200
TZOFFSETTO:+0100
TZNAME:CET
DTSTART:20231029T010000
END:STANDARD
END:VTIMEZONE
BEGIN:VEVENT
DTSTART;TZID=Europe/Vienna:20230422T160000
DTEND;TZID=Europe/Vienna:20230422T190000
DTSTAMP:20260421T181231
CREATED:20230415T122840Z
LAST-MODIFIED:20230415T122840Z
UID:5245-1682179200-1682190000@www.smartclub.at
SUMMARY:Stmk Stammtisch
DESCRIPTION:Liebe Smartfahrer aus Graz und Umgebung. Anbei wieder ein Termin zu einem gemütlichen smarten Treffen. Wir freuen uns auf ein smartreiches Erscheinen
URL:https://www.smartclub.at/termin/stmk-stammtisch-14/
LOCATION:Klammwirtin im Schweizerhof\, Laufnitzdorf 21\, Frohnleiten\, 8130
CATEGORIES:Stammtisch
ATTACH;FMTTYPE=image/jpeg:https://www.smartclub.at/wp-content/uploads/2019/02/2015-07-st-stmk-Koerbler.jpg
END:VEVENT
END:VCALENDAR