BEGIN:VCALENDAR
VERSION:2.0
PRODID:-//smart-Club Österreich - ECPv6.7.0//NONSGML v1.0//EN
CALSCALE:GREGORIAN
METHOD:PUBLISH
X-WR-CALNAME:smart-Club Österreich
X-ORIGINAL-URL:https://www.smartclub.at
X-WR-CALDESC:Veranstaltungen für smart-Club Österreich
REFRESH-INTERVAL;VALUE=DURATION:PT1H
X-Robots-Tag:noindex
X-PUBLISHED-TTL:PT1H
BEGIN:VTIMEZONE
TZID:Europe/Vienna
BEGIN:DAYLIGHT
TZOFFSETFROM:+0100
TZOFFSETTO:+0200
TZNAME:CEST
DTSTART:20220327T010000
END:DAYLIGHT
BEGIN:STANDARD
TZOFFSETFROM:+0200
TZOFFSETTO:+0100
TZNAME:CET
DTSTART:20221030T010000
END:STANDARD
END:VTIMEZONE
BEGIN:VEVENT
DTSTART;TZID=Europe/Vienna:20221209T150000
DTEND;TZID=Europe/Vienna:20221209T180000
DTSTAMP:20260422T002037
CREATED:20230211T202916Z
LAST-MODIFIED:20230211T202916Z
UID:5106-1670598000-1670608800@www.smartclub.at
SUMMARY:Stmk Stammtisch
DESCRIPTION:Liebe Smartfahrer aus Graz und Umgebung. Anbei wieder ein Termin zu einem gemütlichen smarten Treffen. Wir freuen uns auf ein smartreiches Erscheinen
URL:https://www.smartclub.at/termin/stmk-stammtisch-12/
LOCATION:Klammwirtin im Schweizerhof\, Laufnitzdorf 21\, Frohnleiten\, 8130
CATEGORIES:Stammtisch
ATTACH;FMTTYPE=image/jpeg:https://www.smartclub.at/wp-content/uploads/2019/02/2015-07-st-stmk-Koerbler.jpg
END:VEVENT
END:VCALENDAR