BEGIN:VCALENDAR
VERSION:2.0
PRODID:-//smart-Club Österreich - ECPv6.7.0//NONSGML v1.0//EN
CALSCALE:GREGORIAN
METHOD:PUBLISH
X-WR-CALNAME:smart-Club Österreich
X-ORIGINAL-URL:https://www.smartclub.at
X-WR-CALDESC:Veranstaltungen für smart-Club Österreich
REFRESH-INTERVAL;VALUE=DURATION:PT1H
X-Robots-Tag:noindex
X-PUBLISHED-TTL:PT1H
BEGIN:VTIMEZONE
TZID:Europe/Vienna
BEGIN:DAYLIGHT
TZOFFSETFROM:+0100
TZOFFSETTO:+0200
TZNAME:CEST
DTSTART:20220327T010000
END:DAYLIGHT
BEGIN:STANDARD
TZOFFSETFROM:+0200
TZOFFSETTO:+0100
TZNAME:CET
DTSTART:20221030T010000
END:STANDARD
END:VTIMEZONE
BEGIN:VEVENT
DTSTART;TZID=Europe/Vienna:20221125T180000
DTEND;TZID=Europe/Vienna:20221127T090000
DTSTAMP:20260422T014206
CREATED:20221023T150814Z
LAST-MODIFIED:20221023T150910Z
UID:5081-1669399200-1669539600@www.smartclub.at
SUMMARY:Adventfeier des Smartclub Österreich
DESCRIPTION:Liebe Smarties! \n  \nNach der Zwangspause in den letzten Jahren freuen wir uns umso mehr\, euch heuer wieder zahlreich bei unserer traditionellen Adventfeier begrüßen zu dürfen. \nEine Anmeldung ist aufgrund der begrenzten Plätze beim Mündler und im Bus erbeten! \nTermin: 25./26./27. November 2022 \nOrt: Jugendgästehaus Mündler\, Burgfried 7\, Lassing \nProgramm: \n  \nFreitag   25.11.2022 \nGemütliches Zusammensitzen beim Mündler ab ca. 16:00 \n  \nSamstag   26.11.2022  Hauptveranstaltung \nVormittags Eintreffen der Smarties\, Zeit für Geselligkeit und zum Plaudern \nMittags kleine Stärkung beim Mündler \nNachmittags Besuch beim Adventmarkt in Pürgg \nAbends gemeinsames Abendessen\, Lesung und Unterhaltung \n  \nSonntag   27.11.2022 \nFrühstück (im jeweiligen Quartier) \nGemeinsamer Ausklang und Verabschiedung beim Mündler \nindividuelle Heimreise \n  \nWir werden wieder ein günstiges Package mit Mittags- und Abendessen inkl. Busfahrt schnüren. \nDie Zimmer beim Mündler koordinert Didi – bitte per WhatsApp oder Telefon unter +43 699 10573664 kontaktieren. \nAlternative Unterkünfte bitte individuell buchen – Vorschläge siehe unten. \n  \nDen Package Preis werden wir noch gesondert mit der offiziellen Einladung bekannt geben. \nWir ersuchen euch um Bekanntgabe der Teilnahme bis spätestens Freitag 21.10.2022 an : info@smartclub.at \n  \n\nWir freuen uns auf zahlreiches Erscheinen. \nEuer Smartclub Team
URL:https://www.smartclub.at/termin/adventfeier-des-smartclub-oesterreich/
LOCATION:Burgfried 7\, 8903 Lassing\, Österreich
CATEGORIES:Weihnachtsfeier
ATTACH;FMTTYPE=image/jpeg:https://www.smartclub.at/wp-content/uploads/2022/10/Adventfeier.jpg
END:VEVENT
END:VCALENDAR