BEGIN:VCALENDAR
VERSION:2.0
PRODID:-//smart-Club Österreich - ECPv6.7.0//NONSGML v1.0//EN
CALSCALE:GREGORIAN
METHOD:PUBLISH
X-WR-CALNAME:smart-Club Österreich
X-ORIGINAL-URL:https://www.smartclub.at
X-WR-CALDESC:Veranstaltungen für smart-Club Österreich
REFRESH-INTERVAL;VALUE=DURATION:PT1H
X-Robots-Tag:noindex
X-PUBLISHED-TTL:PT1H
BEGIN:VTIMEZONE
TZID:Europe/Vienna
BEGIN:DAYLIGHT
TZOFFSETFROM:+0100
TZOFFSETTO:+0200
TZNAME:CEST
DTSTART:20220327T010000
END:DAYLIGHT
BEGIN:STANDARD
TZOFFSETFROM:+0200
TZOFFSETTO:+0100
TZNAME:CET
DTSTART:20221030T010000
END:STANDARD
END:VTIMEZONE
BEGIN:VEVENT
DTSTART;VALUE=DATE:20220803
DTEND;VALUE=DATE:20220808
DTSTAMP:20260422T060328
CREATED:20220726T173741Z
LAST-MODIFIED:20220726T180442Z
UID:5025-1659484800-1659916799@www.smartclub.at
SUMMARY:smart family meet 2022
DESCRIPTION:  \nNach vielen Verschiebungen findet nun wieder ein smart family meet statt! \nDetails zum Event findest Du unter smart family meets 2022 im Facebook! \nVeranstaltet wird das von Smart Klub Polska\, Smart Autoclub Czech Republic und Smartclub Smartmelodie in Deutschland. \nEuer\, \nsmart-Club Österreich
URL:https://www.smartclub.at/termin/smart-family-meet-2022/
LOCATION:Mercure Jelenia Gora
CATEGORIES:smartes Event
ORGANIZER;CN="Smart Club Polska":MAILTO:smartfamilymeet2022@gmail.com
END:VEVENT
END:VCALENDAR