BEGIN:VCALENDAR
VERSION:2.0
PRODID:-//smart-Club Österreich - ECPv6.7.0//NONSGML v1.0//EN
CALSCALE:GREGORIAN
METHOD:PUBLISH
X-ORIGINAL-URL:https://www.smartclub.at
X-WR-CALDESC:Veranstaltungen für smart-Club Österreich
REFRESH-INTERVAL;VALUE=DURATION:PT1H
X-Robots-Tag:noindex
X-PUBLISHED-TTL:PT1H
BEGIN:VTIMEZONE
TZID:Europe/Vienna
BEGIN:DAYLIGHT
TZOFFSETFROM:+0100
TZOFFSETTO:+0200
TZNAME:CEST
DTSTART:20220327T010000
END:DAYLIGHT
BEGIN:STANDARD
TZOFFSETFROM:+0200
TZOFFSETTO:+0100
TZNAME:CET
DTSTART:20221030T010000
END:STANDARD
END:VTIMEZONE
BEGIN:VEVENT
DTSTART;TZID=Europe/Vienna:20220219T150000
DTEND;TZID=Europe/Vienna:20220219T180000
DTSTAMP:20260422T134645
CREATED:20220129T180956Z
LAST-MODIFIED:20220129T202020Z
UID:4558-1645282800-1645293600@www.smartclub.at
SUMMARY:Wien Stammtisch
DESCRIPTION:Liebe Smartfahrer aus Wien und Umgebung. Anbei wieder ein Termin zu einem gemütlichen smarten Treffen. Wir freuen uns auf ein smartreiches Erscheinen
URL:https://www.smartclub.at/termin/wien-stammtisch-12/
LOCATION:Braugasthof Fabrik\, Ortsstraße 8\, Vösendorf\, 2331
CATEGORIES:Stammtisch
ATTACH;FMTTYPE=image/jpeg:https://www.smartclub.at/wp-content/uploads/2018/10/IMG_0574.jpg
END:VEVENT
END:VCALENDAR