BEGIN:VCALENDAR
VERSION:2.0
PRODID:-//smart-Club Österreich - ECPv6.7.0//NONSGML v1.0//EN
CALSCALE:GREGORIAN
METHOD:PUBLISH
X-WR-CALNAME:smart-Club Österreich
X-ORIGINAL-URL:https://www.smartclub.at
X-WR-CALDESC:Veranstaltungen für smart-Club Österreich
REFRESH-INTERVAL;VALUE=DURATION:PT1H
X-Robots-Tag:noindex
X-PUBLISHED-TTL:PT1H
BEGIN:VTIMEZONE
TZID:Europe/Vienna
BEGIN:DAYLIGHT
TZOFFSETFROM:+0100
TZOFFSETTO:+0200
TZNAME:CEST
DTSTART:20200329T010000
END:DAYLIGHT
BEGIN:STANDARD
TZOFFSETFROM:+0200
TZOFFSETTO:+0100
TZNAME:CET
DTSTART:20201025T010000
END:STANDARD
END:VTIMEZONE
BEGIN:VEVENT
DTSTART;VALUE=DATE:20200903
DTEND;VALUE=DATE:20200907
DTSTAMP:20260423T105515
CREATED:20190509T114501Z
LAST-MODIFIED:20200811T195846Z
UID:4313-1599091200-1599436799@www.smartclub.at
SUMMARY:CANCELLED: Osttirol-Kals am Großglockner
DESCRIPTION:Leider entfällt auch dieses Treffen… du weißt mittlerweile ja sicher schon warum.. 🙁 \nBleibt g’sund liebe Smarties\, damit es bald ein Wiedersehen gibt! \n  \nDas Programm für das Herbsttreffen in Osttirol steht! \nEs geht vom 3. bis 6. September 2020 nach Kals am Großglockner – dort haben wir im Gasthof Lesacherhof alle Zimmer für den Smartclub blockiert. \nIn dieser wunderschönen Gegend gibt es sooo viel zu sehen und zu erleben\, dass wir sicher ein paar sehr schöne und interessante\, aber auch gemütliche Tage zusammen haben werden. \nDie Wege führen uns über atemberaubende (Smart-) Alpenstrassen zu imposanten Ausflugszielen\, Natur-Oasen\, regionalen Erzeugern und kulinarischen Lokalitäten. \n  \nObersee Osttirol \n  \nEs erwartet euch ein herrliches Alpenpanorama am Staller Sattel\, eine Südtiroler Mahlzeit\, wir werden bei der Firma Loacker selbst Waffeln erzeugen\, eine 1 Millionen Jahre alte Heilquelle besuchen\, Bier brauen\, Shoppen\, Berge mit all unseren Sinnen erleben und vieles vieles mehr! \nWer bereits früher anreist\, sollte unbedingt mit der Gondel rauf zur Adler Lounge fahren und das traumhafte Bergpanorama in einem tollen Ambiente genießen. \nIhr könnt gespannt darauf sein. Also\, haltet euch den Termin frei! Anmeldung bitte bei Angelika direkt. \nNähere Infos findet Ihr hier! \nWir freuen uns auf euch!
URL:https://www.smartclub.at/termin/osttirol-kals-am-grossglockner/
LOCATION:Lesach 24\, 9981 Kals am Großglockner\, Österreich
CATEGORIES:Clubtreffen
ATTACH;FMTTYPE=image/jpeg:https://www.smartclub.at/wp-content/uploads/2019/05/Grossglockner-Bergstrasse.jpeg
END:VEVENT
END:VCALENDAR