BEGIN:VCALENDAR
VERSION:2.0
PRODID:-//smart-Club Österreich - ECPv6.7.0//NONSGML v1.0//EN
CALSCALE:GREGORIAN
METHOD:PUBLISH
X-ORIGINAL-URL:https://www.smartclub.at
X-WR-CALDESC:Veranstaltungen für smart-Club Österreich
REFRESH-INTERVAL;VALUE=DURATION:PT1H
X-Robots-Tag:noindex
X-PUBLISHED-TTL:PT1H
BEGIN:VTIMEZONE
TZID:Europe/Vienna
BEGIN:DAYLIGHT
TZOFFSETFROM:+0100
TZOFFSETTO:+0200
TZNAME:CEST
DTSTART:20200329T010000
END:DAYLIGHT
BEGIN:STANDARD
TZOFFSETFROM:+0200
TZOFFSETTO:+0100
TZNAME:CET
DTSTART:20201025T010000
END:STANDARD
END:VTIMEZONE
BEGIN:VEVENT
DTSTART;TZID=Europe/Vienna:20200718T150000
DTEND;TZID=Europe/Vienna:20200718T180000
DTSTAMP:20260423T132530
CREATED:20200716T190946Z
LAST-MODIFIED:20200716T191323Z
UID:4632-1595084400-1595095200@www.smartclub.at
SUMMARY:Wien Stammtisch
DESCRIPTION:Liebe Smartfahrer aus Wien und Umgebung \nBitte um eine Zu- oder Absage.\n\nSmarte Grüße und ich freue mich auf zahlreiche Zusagen\nJochen
URL:https://www.smartclub.at/termin/wien-stammtisch-13/
LOCATION:Restaurant Oktogon am Himmel\, Himmelstraße 125\, Wien\, 1190
CATEGORIES:Stammtisch
ATTACH;FMTTYPE=image/jpeg:https://www.smartclub.at/wp-content/uploads/2018/10/IMG_0574.jpg
END:VEVENT
END:VCALENDAR