BEGIN:VCALENDAR
VERSION:2.0
PRODID:-//smart-Club Österreich - ECPv6.7.0//NONSGML v1.0//EN
CALSCALE:GREGORIAN
METHOD:PUBLISH
X-WR-CALNAME:smart-Club Österreich
X-ORIGINAL-URL:https://www.smartclub.at
X-WR-CALDESC:Veranstaltungen für smart-Club Österreich
REFRESH-INTERVAL;VALUE=DURATION:PT1H
X-Robots-Tag:noindex
X-PUBLISHED-TTL:PT1H
BEGIN:VTIMEZONE
TZID:Europe/Vienna
BEGIN:DAYLIGHT
TZOFFSETFROM:+0100
TZOFFSETTO:+0200
TZNAME:CEST
DTSTART:20200329T010000
END:DAYLIGHT
BEGIN:STANDARD
TZOFFSETFROM:+0200
TZOFFSETTO:+0100
TZNAME:CET
DTSTART:20201025T010000
END:STANDARD
END:VTIMEZONE
BEGIN:VEVENT
DTSTART;TZID=Europe/Vienna:20200710T190000
DTEND;TZID=Europe/Vienna:20200710T220000
DTSTAMP:20260423T131613
CREATED:20200702T114628Z
LAST-MODIFIED:20200702T114628Z
UID:4628-1594407600-1594418400@www.smartclub.at
SUMMARY:Stmk Stammtisch
DESCRIPTION:Endlich gibt es wieder einen Stammtisch! \nWir freuen uns! \nWann: am 10. Juli um 19:00 Uhr \nBei der Klammwirtin im Schweizerhof \nLaufnitzdorf 21\, 8131 Frohnleiten
URL:https://www.smartclub.at/termin/stmk-stammtisch-9/
LOCATION:Laufnitzdorf 21\, 8131 Frohnleiten
CATEGORIES:Stammtisch
ATTACH;FMTTYPE=image/jpeg:https://www.smartclub.at/wp-content/uploads/2019/04/2019-JHV_20190330_095419908_iOS.jpg
END:VEVENT
END:VCALENDAR