BEGIN:VCALENDAR
VERSION:2.0
PRODID:-//smart-Club Österreich - ECPv6.7.0//NONSGML v1.0//EN
CALSCALE:GREGORIAN
METHOD:PUBLISH
X-ORIGINAL-URL:https://www.smartclub.at
X-WR-CALDESC:Veranstaltungen für smart-Club Österreich
REFRESH-INTERVAL;VALUE=DURATION:PT1H
X-Robots-Tag:noindex
X-PUBLISHED-TTL:PT1H
BEGIN:VTIMEZONE
TZID:Europe/Vienna
BEGIN:DAYLIGHT
TZOFFSETFROM:+0100
TZOFFSETTO:+0200
TZNAME:CEST
DTSTART:20190331T010000
END:DAYLIGHT
BEGIN:STANDARD
TZOFFSETFROM:+0200
TZOFFSETTO:+0100
TZNAME:CET
DTSTART:20191027T010000
END:STANDARD
END:VTIMEZONE
BEGIN:VEVENT
DTSTART;TZID=Europe/Vienna:20190607T190000
DTEND;TZID=Europe/Vienna:20190607T220000
DTSTAMP:20260424T050533
CREATED:20190523T112818Z
LAST-MODIFIED:20190523T112818Z
UID:4327-1559934000-1559944800@www.smartclub.at
SUMMARY:Stmk-Stammtisch
DESCRIPTION:Dieses Mal treffen wir uns eine Woche früher\, wie normal. \nAber wir hoffen trotzdem\, viele bunte Smartler bei Bettina begrüßen zu dürfen! \nAlso\, wir sehen uns bei der Klammwirtin am 7. Juni 2019 um 19:00 Uhr
URL:https://www.smartclub.at/termin/stmk-stammtisch-6/
LOCATION:Bärenschütz 9\, 8131 Mixnitz
CATEGORIES:Stammtisch
ATTACH;FMTTYPE=image/jpeg:https://www.smartclub.at/wp-content/uploads/2019/02/2015-07-st-stmk-Koerbler.jpg
END:VEVENT
END:VCALENDAR