BEGIN:VCALENDAR
VERSION:2.0
PRODID:-//smart-Club Österreich - ECPv6.7.0//NONSGML v1.0//EN
CALSCALE:GREGORIAN
METHOD:PUBLISH
X-WR-CALNAME:smart-Club Österreich
X-ORIGINAL-URL:https://www.smartclub.at
X-WR-CALDESC:Veranstaltungen für smart-Club Österreich
REFRESH-INTERVAL;VALUE=DURATION:PT1H
X-Robots-Tag:noindex
X-PUBLISHED-TTL:PT1H
BEGIN:VTIMEZONE
TZID:Europe/Vienna
BEGIN:DAYLIGHT
TZOFFSETFROM:+0100
TZOFFSETTO:+0200
TZNAME:CEST
DTSTART:20190331T010000
END:DAYLIGHT
BEGIN:STANDARD
TZOFFSETFROM:+0200
TZOFFSETTO:+0100
TZNAME:CET
DTSTART:20191027T010000
END:STANDARD
END:VTIMEZONE
BEGIN:VEVENT
DTSTART;TZID=Europe/Vienna:20190511T150000
DTEND;TZID=Europe/Vienna:20190511T180000
DTSTAMP:20260424T062148
CREATED:20190401T195423Z
LAST-MODIFIED:20190401T195423Z
UID:4210-1557586800-1557597600@www.smartclub.at
SUMMARY:Wien Stammtisch Graz meets Wien
DESCRIPTION:Liebe Smartfahrer aus Wien und Umgebung \nDiesmal gilt das Motto Grazer Smarties meets Wiener Smarties.\nAufgrund größerer Teilnehmeranzahl Bitte ich diesmal ernsthaft um um eine Zu- oder Absage da wir mehr Plätze benötigen werden.\n\nGeplanter Stammtisch im Clocktower in Brunn/Gebirge.\n\nSmarte Grüße und ich freue mich auf zahlreiche Zusagen\nJochen
URL:https://www.smartclub.at/termin/wien-stammtisch-graz-meets-wien/
CATEGORIES:Stammtisch
ATTACH;FMTTYPE=image/jpeg:https://www.smartclub.at/wp-content/uploads/2018/10/IMG_0574.jpg
END:VEVENT
END:VCALENDAR