BEGIN:VCALENDAR
VERSION:2.0
PRODID:-//smart-Club Österreich - ECPv6.7.0//NONSGML v1.0//EN
CALSCALE:GREGORIAN
METHOD:PUBLISH
X-ORIGINAL-URL:https://www.smartclub.at
X-WR-CALDESC:Veranstaltungen für smart-Club Österreich
REFRESH-INTERVAL;VALUE=DURATION:PT1H
X-Robots-Tag:noindex
X-PUBLISHED-TTL:PT1H
BEGIN:VTIMEZONE
TZID:Europe/Vienna
BEGIN:DAYLIGHT
TZOFFSETFROM:+0100
TZOFFSETTO:+0200
TZNAME:CEST
DTSTART:20180325T010000
END:DAYLIGHT
BEGIN:STANDARD
TZOFFSETFROM:+0200
TZOFFSETTO:+0100
TZNAME:CET
DTSTART:20181028T010000
END:STANDARD
END:VTIMEZONE
BEGIN:VEVENT
DTSTART;VALUE=DATE:20180721
DTEND;VALUE=DATE:20180723
DTSTAMP:20260424T193603
CREATED:20180622T072509Z
LAST-MODIFIED:20180622T072509Z
UID:3295-1532131200-1532303999@www.smartclub.at
SUMMARY:21. bis 22. Juli 2018: time for smart Nürnberg
DESCRIPTION:Ein toll organisiertes Treffen mit Tunern und Rahmenprogramm durch Richi und seine Freunde. time for smart Homepage
URL:https://www.smartclub.at/termin/21-bis-22-juli-2018-time-for-smart-nuernberg/
ATTACH;FMTTYPE=image/jpeg:https://www.smartclub.at/wp-content/uploads/2018/06/IMG_6467.jpg
END:VEVENT
END:VCALENDAR