BEGIN:VCALENDAR
VERSION:2.0
PRODID:-//smart-Club Österreich - ECPv6.7.0//NONSGML v1.0//EN
CALSCALE:GREGORIAN
METHOD:PUBLISH
X-WR-CALNAME:smart-Club Österreich
X-ORIGINAL-URL:https://www.smartclub.at
X-WR-CALDESC:Veranstaltungen für smart-Club Österreich
REFRESH-INTERVAL;VALUE=DURATION:PT1H
X-Robots-Tag:noindex
X-PUBLISHED-TTL:PT1H
BEGIN:VTIMEZONE
TZID:Europe/Vienna
BEGIN:DAYLIGHT
TZOFFSETFROM:+0100
TZOFFSETTO:+0200
TZNAME:CEST
DTSTART:20180325T010000
END:DAYLIGHT
BEGIN:STANDARD
TZOFFSETFROM:+0200
TZOFFSETTO:+0100
TZNAME:CET
DTSTART:20181028T010000
END:STANDARD
END:VTIMEZONE
BEGIN:VEVENT
DTSTART;TZID=Europe/Vienna:20180623T150000
DTEND;TZID=Europe/Vienna:20180623T235900
DTSTAMP:20260424T204806
CREATED:20180622T072200Z
LAST-MODIFIED:20180622T072200Z
UID:3289-1529766000-1529798340@www.smartclub.at
SUMMARY:Wien-Stammtisch
DESCRIPTION:Der nächste Termin steht fest. Samstag 23.06. ab 15:00 Uhr: \nLokal:\nWake up\nAm Wehr 1 Neue Donau\n1220 Wien\nhttp://www.wakeup.at \nParken in der „IndustrieStraße Neue Siedlung“ oder P+R-Anlage. Keine Parkmöglichkeit beim Lokal.  \nTisch ist auf Smart-Club reserviert. \nSmarte Grüße \nJochen vom Smart-Club\n+43 699 15622446
URL:https://www.smartclub.at/termin/wien-stammtisch/
ATTACH;FMTTYPE=image/jpeg:https://www.smartclub.at/wp-content/uploads/2018/06/vienna-1567865_1280.jpg
END:VEVENT
END:VCALENDAR